BEGIN:VCALENDAR
VERSION:2.0
PRODID:-//Kelli-Ann Masterson - ECPv6.9.0//NONSGML v1.0//EN
CALSCALE:GREGORIAN
METHOD:PUBLISH
X-ORIGINAL-URL:https://kelliannmasterson.com
X-WR-CALDESC:Events for Kelli-Ann Masterson
REFRESH-INTERVAL;VALUE=DURATION:PT1H
X-Robots-Tag:noindex
X-PUBLISHED-TTL:PT1H
BEGIN:VTIMEZONE
TZID:UTC
BEGIN:STANDARD
TZOFFSETFROM:+0000
TZOFFSETTO:+0000
TZNAME:UTC
DTSTART:20240101T000000
END:STANDARD
END:VTIMEZONE
BEGIN:VEVENT
DTSTART;VALUE=DATE:20250824
DTEND;VALUE=DATE:20250825
DTSTAMP:20260422T151725
CREATED:20250625T215808Z
LAST-MODIFIED:20250910T205201Z
UID:680-1755993600-1756079999@kelliannmasterson.com
SUMMARY:Hansel und Gretel
DESCRIPTION:Kelli-Ann will play Gretel in Hansel und Gretel at Cork Opera House
URL:https://kelliannmasterson.com/event/hansel-und-gretel/
LOCATION:Cork Opera House
CATEGORIES:Opera,Past Events
ATTACH;FMTTYPE=image/jpeg:https://kelliannmasterson.com/wp-content/uploads/2025/06/HG.jpg
END:VEVENT
BEGIN:VEVENT
DTSTART;TZID=UTC:20250802T200000
DTEND;TZID=UTC:20250816T200000
DTSTAMP:20260422T151725
CREATED:20250806T102109Z
LAST-MODIFIED:20250806T102207Z
UID:690-1754164800-1755374400@kelliannmasterson.com
SUMMARY:Iolanthe
DESCRIPTION:Kelli-Ann will be playing Phyllis in Iolanthe with the National Gilbert and Sullivan Opera Company at Buxton Opera House at the International Gilbert and Sullivan Festival from August 2nd – August 16th
URL:https://kelliannmasterson.com/event/iolanthe/
LOCATION:Buxton Opera House\, Water Street\, Buxton\,\, Derbyshire\, SK176XN\, United Kingdom
CATEGORIES:Feature,Opera,Operetta,Past Events
ATTACH;FMTTYPE=image/png:https://kelliannmasterson.com/wp-content/uploads/2025/08/Iolanthe.png
END:VEVENT
BEGIN:VEVENT
DTSTART;VALUE=DATE:20250603
DTEND;VALUE=DATE:20250609
DTSTAMP:20260422T151725
CREATED:20250408T211106Z
LAST-MODIFIED:20250625T221627Z
UID:677-1748908800-1749427199@kelliannmasterson.com
SUMMARY:The Mikado
DESCRIPTION:Kelli-Ann will be singing Yum-Yum in Opera Della Luna’s UK Tour of The Mikado by Gilbert and Sullivan. \nJune 3rd – 7th Wiltons Music Hall\, London
URL:https://kelliannmasterson.com/event/the-mikado-3/
LOCATION:Wiltons Music Hall\, Graces Alley\, London\, E1 8JB\, United Kingdom
CATEGORIES:Feature,Operetta,Past Events
ATTACH;FMTTYPE=image/jpeg:https://kelliannmasterson.com/wp-content/uploads/2025/04/ODL-3.jpg
END:VEVENT
BEGIN:VEVENT
DTSTART;VALUE=DATE:20250527
DTEND;VALUE=DATE:20250530
DTSTAMP:20260422T151725
CREATED:20250325T183418Z
LAST-MODIFIED:20250625T221704Z
UID:651-1748304000-1748563199@kelliannmasterson.com
SUMMARY:Dido and Aeneas
DESCRIPTION:Kelli-Ann will sing Belinda in Dido and Aeneas at Blackwater Valley Opera Festival 2025 with the Irish Baroque Orchestra Conducted by Nicholas McGegan. \n  \n 
URL:https://kelliannmasterson.com/event/dido-and-aeneas/
LOCATION:St Carthage’s Cathedral\, Lismore\, Waterford\, Ireland
CATEGORIES:Feature,Opera,Past Events
ATTACH;FMTTYPE=image/jpeg:https://kelliannmasterson.com/wp-content/uploads/2025/03/BVOF-Logo-Blue.jpg
END:VEVENT
BEGIN:VEVENT
DTSTART;VALUE=DATE:20241214
DTEND;VALUE=DATE:20241215
DTSTAMP:20260422T151725
CREATED:20250122T160538Z
LAST-MODIFIED:20250122T160538Z
UID:611-1734134400-1734220799@kelliannmasterson.com
SUMMARY:Handel's Messiah - Ulster Orchestra
DESCRIPTION:Conducted by Christian Curnyn \nSoloists: \nSoprano: Kelli-Ann Masterson \nAlto: Katie Bray \nTenor: Michael Bell \nBass: Christopher Cull \nWith the Belfast Philharmonic Choir
URL:https://kelliannmasterson.com/event/handels-messiah-ulster-orchestra/
LOCATION:Waterfront Hall\, Belfast\, Lanyon Pl\, Belfast\, BT1 3WH\, Ireland
CATEGORIES:Past Events
ATTACH;FMTTYPE=image/jpeg:https://kelliannmasterson.com/wp-content/uploads/2025/01/Messiah.jpg
END:VEVENT
END:VCALENDAR